Workbook

Sheet Page_Hits_Table
A1: Date | B1: Page | C1: IP | D1: City | E1: Region | F1: Country | G1: Count | H1: Just Date | I1: Just Day | J1: Just Hour | K1: Intermountain Chapter Website (Non-Cached) Page Hits
A2: 46278.091 | B2: Chapter_Events_Report | C2: 159.223.162.18 | D2: North Bergen | E2: NJ | F2: United States | G2: 1 | H2: =INT(A2) -> 46278 | I2: =WEEKDAY(A2) -> 1 | J2: =HOUR(A2) -> 2 | K2: Time Period= 9/13/26 to 10/7/26
A3: 46278.237 | B3: Chapter_Calendar | C3: 150.241.237.221 | D3: Hong Kong | F3: Hong Kong | G3: 1 | H3: =INT(A3) -> 46278 | I3: =WEEKDAY(A3) -> 1 | J3: =HOUR(A3) -> 5 | L3: # Hits by State | N3: % of Total Hits | P3: # Page Hits | R3: % of Total Hits | S3: # Page Hits in ID | T3: % Page Hits in ID
A4: 46278.34 | B4: Chapter_Calendar | C4: 75.174.148.135 | D4: Meridian | E4: ID | F4: United States | G4: 1 | H4: =INT(A4) -> 46278 | I4: =WEEKDAY(A4) -> 1 | J4: =HOUR(A4) -> 8 | L4: ID | M4: =SUMIF(E:E,L4,G:G) -> 785 | N4: =100*M4/$M$31 -> 58.277654 | P4: Home | Q4: =SUMIF(B:B,TRIM(P4),G:G) -> 389 | R4: =100*Q4/SUM(G:G) -> 28.87899 | S4: =SUMIFS(G:G,E:E,"ID",B:B,P4) -> 225 | T4: =100*S4/Q4 -> 57.840617
A5: 46278.342 | B5: Home | C5: 184.155.200.108 | D5: Nampa | E5: ID | F5: United States | G5: 1 | H5: =INT(A5) -> 46278 | I5: =WEEKDAY(A5) -> 1 | J5: =HOUR(A5) -> 8 | L5: CA | M5: =SUMIF(E:E,L5,G:G) -> 94 | N5: =100*M5/$M$31 -> 6.9784707 | P5: Chapter_Calendar | Q5: =SUMIF(B:B,TRIM(P5),G:G) -> 256 | R5: =100*Q5/SUM(G:G) -> 19.005197 | S5: =SUMIFS(G:G,E:E,"ID",B:B,P5) -> 178 | T5: =100*S5/Q5 -> 69.53125
A6: 46278.362 | B6: Chapter_Calendar | C6: 75.174.105.206 | D6: Boise | E6: ID | F6: United States | G6: 1 | H6: =INT(A6) -> 46278 | I6: =WEEKDAY(A6) -> 1 | J6: =HOUR(A6) -> 8 | L6: WA | M6: =SUMIF(E:E,L6,G:G) -> 87 | N6: =100*M6/$M$31 -> 6.4587973 | P6: Events | Q6: =SUMIF(B:B,TRIM(P6),G:G) -> 85 | R6: =100*Q6/SUM(G:G) -> 6.3103192 | S6: =SUMIFS(G:G,E:E,"ID",B:B,P6) -> 51 | T6: =100*S6/Q6 -> 60
A7: 46278.374 | B7: Home | C7: 174.201.57.184 | D7: Midvale | E7: UT | F7: United States | G7: 1 | H7: =INT(A7) -> 46278 | I7: =WEEKDAY(A7) -> 1 | J7: =HOUR(A7) -> 8 | L7: UT | M7: =SUMIF(E:E,L7,G:G) -> 80 | N7: =100*M7/$M$31 -> 5.939124 | P7: photos_n_videos | Q7: =SUMIF(B:B,TRIM(P7),G:G) -> 83 | R7: =100*Q7/SUM(G:G) -> 6.1618411 | S7: =SUMIFS(G:G,E:E,"ID",B:B,P7) -> 45 | T7: =100*S7/Q7 -> 54.216867
A8: 46278.375 | B8: Chapter_Calendar | C8: 174.201.57.184 | D8: Midvale | E8: UT | F8: United States | G8: 1 | H8: =INT(A8) -> 46278 | I8: =WEEKDAY(A8) -> 1 | J8: =HOUR(A8) -> 9 | L8: VA | M8: =SUMIF(E:E,L8,G:G) -> 64 | N8: =100*M8/$M$31 -> 4.7512992 | P8: Chapter_Events_Report | Q8: =SUMIF(B:B,TRIM(P8),G:G) -> 52 | R8: =100*Q8/SUM(G:G) -> 3.8604306 | S8: =SUMIFS(G:G,E:E,"ID",B:B,P8) -> 34 | T8: =100*S8/Q8 -> 65.384615
A9: 46278.376 | B9: Home | C9: 23.169.104.79 | D9: Emmett | E9: ID | F9: United States | G9: 1 | H9: =INT(A9) -> 46278 | I9: =WEEKDAY(A9) -> 1 | J9: =HOUR(A9) -> 9 | L9: MS | M9: =SUMIF(E:E,L9,G:G) -> 31 | N9: =100*M9/$M$31 -> 2.3014105 | P9: Newsletters | Q9: =SUMIF(B:B,TRIM(P9),G:G) -> 49 | R9: =100*Q9/SUM(G:G) -> 3.6377134 | S9: =SUMIFS(G:G,E:E,"ID",B:B,P9) -> 32 | T9: =100*S9/Q9 -> 65.306122
A10: 46278.376 | B10: photos_n_videos | C10: 23.169.104.79 | D10: Emmett | E10: ID | F10: United States | G10: 1 | H10: =INT(A10) -> 46278 | I10: =WEEKDAY(A10) -> 1 | J10: =HOUR(A10) -> 9 | L10: OR | M10: =SUMIF(E:E,L10,G:G) -> 23 | N10: =100*M10/$M$31 -> 1.7074981 | P10: Membership | Q10: =SUMIF(B:B,TRIM(P10),G:G) -> 40 | R10: =100*Q10/SUM(G:G) -> 2.969562 | S10: =SUMIFS(G:G,E:E,"ID",B:B,P10) -> 19 | T10: =100*S10/Q10 -> 47.5
A11: 46278.381 | B11: Chapter_Calendar | C11: 67.119.25.19 | D11: Fair Oaks | E11: CA | F11: United States | G11: 1 | H11: =INT(A11) -> 46278 | I11: =WEEKDAY(A11) -> 1 | J11: =HOUR(A11) -> 9 | L11: OH | M11: =SUMIF(E:E,L11,G:G) -> 20 | N11: =100*M11/$M$31 -> 1.484781 | P11: About_Us | Q11: =SUMIF(B:B,TRIM(P11),G:G) -> 32 | R11: =100*Q11/SUM(G:G) -> 2.3756496 | S11: =SUMIFS(G:G,E:E,"ID",B:B,P11) -> 11 | T11: =100*S11/Q11 -> 34.375
A12: 46278.433 | B12: Chapter_Calendar | C12: 23.169.104.79 | D12: Emmett | E12: ID | F12: United States | G12: 1 | H12: =INT(A12) -> 46278 | I12: =WEEKDAY(A12) -> 1 | J12: =HOUR(A12) -> 10 | L12: GA | M12: =SUMIF(E:E,L12,G:G) -> 16 | N12: =100*M12/$M$31 -> 1.1878248 | P12: Chapter_Officers | Q12: =SUMIF(B:B,TRIM(P12),G:G) -> 31 | R12: =100*Q12/SUM(G:G) -> 2.3014105 | S12: =SUMIFS(G:G,E:E,"ID",B:B,P12) -> 12 | T12: =100*S12/Q12 -> 38.709677
A13: 46278.443 | B13: photos_n_videos | C13: 44.212.131.50 | D13: Ashburn | E13: VA | F13: United States | G13: 1 | H13: =INT(A13) -> 46278 | I13: =WEEKDAY(A13) -> 1 | J13: =HOUR(A13) -> 10 | L13: IN | M13: =SUMIF(E:E,L13,G:G) -> 11 | N13: =100*M13/$M$31 -> 0.81662955 | P13: FAQs | Q13: =SUMIF(B:B,TRIM(P13),G:G) -> 30 | R13: =100*Q13/SUM(G:G) -> 2.2271715
A14: 46278.507 | B14: Home | C14: 174.252.241.244 | D14: Salt Lake City | E14: UT | F14: United States | G14: 1 | H14: =INT(A14) -> 46278 | I14: =WEEKDAY(A14) -> 1 | J14: =HOUR(A14) -> 12 | L14: MA | M14: =SUMIF(E:E,L14,G:G) -> 10 | N14: =100*M14/$M$31 -> 0.7423905 | P14: ACCP_2027 | Q14: =SUMIF(B:B,TRIM(P14),G:G) -> 21 | R14: =100*Q14/SUM(G:G) -> 1.55902 | S14: Summary Stats
A15: 46278.507 | B15: Chapter_Calendar | C15: 174.252.241.244 | D15: Salt Lake City | E15: UT | F15: United States | G15: 1 | H15: =INT(A15) -> 46278 | I15: =WEEKDAY(A15) -> 1 | J15: =HOUR(A15) -> 12 | L15: NJ | M15: =SUMIF(E:E,L15,G:G) -> 10 | N15: =100*M15/$M$31 -> 0.7423905 | P15: Forms_n_Docs | Q15: =SUMIF(B:B,TRIM(P15),G:G) -> 19 | R15: =100*Q15/SUM(G:G) -> 1.4105419 | S15: Avg Hits/Day= | T15: ='Hits per Day'!F20 -> 52.578947
A16: 46278.524 | B16: Home | C16: 32.186.117.44 | D16: Boardman | E16: OR | F16: United States | G16: 1 | H16: =INT(A16) -> 46278 | I16: =WEEKDAY(A16) -> 1 | J16: =HOUR(A16) -> 12 | L16: ON | M16: =SUMIF(E:E,L16,G:G) -> 8 | N16: =100*M16/$M$31 -> 0.5939124 | P16: Burger_Burn_Volunteers | Q16: =SUMIF(B:B,TRIM(P16),G:G) -> 18 | R16: =100*Q16/SUM(G:G) -> 1.3363029
A17: 46278.524 | B17: Home | C17: 69.92.38.246 | D17: Boise | E17: ID | F17: United States | G17: 1 | H17: =INT(A17) -> 46278 | I17: =WEEKDAY(A17) -> 1 | J17: =HOUR(A17) -> 12 | L17: CO | M17: =SUMIF(E:E,L17,G:G) -> 8 | N17: =100*M17/$M$31 -> 0.5939124 | P17: Ride_Leads | Q17: =SUMIF(B:B,TRIM(P17),G:G) -> 18 | R17: =100*Q17/SUM(G:G) -> 1.3363029 | S17: Week Day | T17: # Hits
A18: 46278.525 | B18: FAQs | C18: 54.212.3.2 | D18: Boardman | E18: OR | F18: United States | G18: 1 | H18: =INT(A18) -> 46278 | I18: =WEEKDAY(A18) -> 1 | J18: =HOUR(A18) -> 12 | L18: WI | M18: =SUMIF(E:E,L18,G:G) -> 7 | N18: =100*M18/$M$31 -> 0.51967335 | P18: Useful_Links | Q18: =SUMIF(B:B,TRIM(P18),G:G) -> 18 | R18: =100*Q18/SUM(G:G) -> 1.3363029 | S18: Sunday | T18: =GETPIVOTDATA("Count",'Hits per Day of Week'!$A$3,"Just Day",1) -> 230
A19: 46278.525 | B19: FAQs | C19: 69.92.38.246 | D19: Boise | E19: ID | F19: United States | G19: 1 | H19: =INT(A19) -> 46278 | I19: =WEEKDAY(A19) -> 1 | J19: =HOUR(A19) -> 12 | L19: RP | M19: =SUMIF(E:E,L19,G:G) -> 6 | N19: =100*M19/$M$31 -> 0.4454343 | P19: Biker_BFast_Volunteers | Q19: =SUMIF(B:B,TRIM(P19),G:G) -> 17 | R19: =100*Q19/SUM(G:G) -> 1.2620638 | S19: Monday | T19: =GETPIVOTDATA("Count",'Hits per Day of Week'!$A$3,"Just Day",2) -> 193
A20: 46278.578 | B20: Chapter_Events_Report | C20: 184.155.79.139 | D20: Nampa | E20: ID | F20: United States | G20: 1 | H20: =INT(A20) -> 46278 | I20: =WEEKDAY(A20) -> 1 | J20: =HOUR(A20) -> 13 | L20: SC | M20: =SUMIF(E:E,L20,G:G) -> 6 | N20: =100*M20/$M$31 -> 0.4454343 | P20: LOH | Q20: =SUMIF(B:B,TRIM(P20),G:G) -> 17 | R20: =100*Q20/SUM(G:G) -> 1.2620638 | S20: Tuesday | T20: =GETPIVOTDATA("Count",'Hits per Day of Week'!$A$3,"Just Day",3) -> 188
A21: 46278.594 | B21: Home | C21: 160.2.168.53 | D21: Boise | E21: ID | F21: United States | G21: 1 | H21: =INT(A21) -> 46278 | I21: =WEEKDAY(A21) -> 1 | J21: =HOUR(A21) -> 14 | L21: TX | M21: =SUMIF(E:E,L21,G:G) -> 6 | N21: =100*M21/$M$31 -> 0.4454343 | P21: Private_Event_Locations | Q21: =SUMIF(B:B,TRIM(P21),G:G) -> 16 | R21: =100*Q21/SUM(G:G) -> 1.1878248 | S21: Wednesday | T21: =GETPIVOTDATA("Count",'Hits per Day of Week'!$A$3,"Just Day",4) -> 186
A22: 46278.609 | B22: FAQs | C22: 216.245.152.44 | D22: Boise | E22: ID | F22: United States | G22: 1 | H22: =INT(A22) -> 46278 | I22: =WEEKDAY(A22) -> 1 | J22: =HOUR(A22) -> 14 | L22: NC | M22: =SUMIF(E:E,L22,G:G) -> 4 | N22: =100*M22/$M$31 -> 0.2969562 | P22: Cooking_Volunteers | Q22: =SUMIF(B:B,TRIM(P22),G:G) -> 16 | R22: =100*Q22/SUM(G:G) -> 1.1878248 | S22: Thursday | T22: =GETPIVOTDATA("Count",'Hits per Day of Week'!$A$3,"Just Day",5) -> 185
A23: 46278.615 | B23: Home | C23: 160.2.142.14 | D23: Boise | E23: ID | F23: United States | G23: 1 | H23: =INT(A23) -> 46278 | I23: =WEEKDAY(A23) -> 1 | J23: =HOUR(A23) -> 14 | L23: MD | M23: =SUMIF(E:E,L23,G:G) -> 3 | N23: =100*M23/$M$31 -> 0.22271715 | P23: National_HOG_Challenges | Q23: =SUMIF(B:B,TRIM(P23),G:G) -> 14 | R23: =100*Q23/SUM(G:G) -> 1.0393467 | S23: Friday | T23: =GETPIVOTDATA("Count",'Hits per Day of Week'!$A$3,"Just Day",6) -> 214
A24: 46278.615 | B24: Chapter_Calendar | C24: 160.2.142.14 | D24: Boise | E24: ID | F24: United States | G24: 1 | H24: =INT(A24) -> 46278 | I24: =WEEKDAY(A24) -> 1 | J24: =HOUR(A24) -> 14 | L24: NY | M24: =SUMIF(E:E,L24,G:G) -> 3 | N24: =100*M24/$M$31 -> 0.22271715 | P24: Group_Riding | Q24: =SUMIF(B:B,TRIM(P24),G:G) -> 14 | R24: =100*Q24/SUM(G:G) -> 1.0393467 | S24: Saturday | T24: =GETPIVOTDATA("Count",'Hits per Day of Week'!$A$3,"Just Day",7) -> 151
A25: 46278.624 | B25: Home | C25: 75.174.96.215 | D25: Boise | E25: ID | F25: United States | G25: 1 | H25: =INT(A25) -> 46278 | I25: =WEEKDAY(A25) -> 1 | J25: =HOUR(A25) -> 14 | L25: IA | M25: =SUMIF(E:E,L25,G:G) -> 1 | N25: =100*M25/$M$31 -> 0.07423905 | P25: HOG_Rally_Calendar | Q25: =SUMIF(B:B,TRIM(P25),G:G) -> 13 | R25: =100*Q25/SUM(G:G) -> 0.96510765
A26: 46278.776 | B26: Home | C26: 208.115.247.230 | D26: Salt Lake City | E26: UT | F26: United States | G26: 1 | H26: =INT(A26) -> 46278 | I26: =WEEKDAY(A26) -> 1 | J26: =HOUR(A26) -> 18 | L26: HA | M26: =SUMIF(E:E,L26,G:G) -> 1 | N26: =100*M26/$M$31 -> 0.07423905 | P26: Policies | Q26: =SUMIF(B:B,TRIM(P26),G:G) -> 13 | R26: =100*Q26/SUM(G:G) -> 0.96510765 | S26: Hour of the Day | T26: # Hits
A27: 46278.776 | B27: photos_n_videos | C27: 208.115.247.230 | D27: Salt Lake City | E27: UT | F27: United States | G27: 1 | H27: =INT(A27) -> 46278 | I27: =WEEKDAY(A27) -> 1 | J27: =HOUR(A27) -> 18 | L27: HN | M27: =SUMIF(E:E,L27,G:G) -> 1 | N27: =100*M27/$M$31 -> 0.07423905 | P27: Rides_n_GPX_Files | Q27: =SUMIF(B:B,TRIM(P27),G:G) -> 10 | R27: =100*Q27/SUM(G:G) -> 0.7423905 | S27: 5 | T27: =GETPIVOTDATA("Count",'Hits per Hour'!$A$3,"Just Hour",5) -> 36
A28: 46278.795 | B28: Chapter_Calendar | C28: 184.155.79.139 | D28: Nampa | E28: ID | F28: United States | G28: 1 | H28: =INT(A28) -> 46278 | I28: =WEEKDAY(A28) -> 1 | J28: =HOUR(A28) -> 19 | L28: SP | M28: =SUMIF(E:E,L28,G:G) -> 1 | N28: =100*M28/$M$31 -> 0.07423905 | P28: Harleys_Angels_Program | Q28: =SUMIF(B:B,TRIM(P28),G:G) -> 9 | R28: =100*Q28/SUM(G:G) -> 0.66815145 | S28: 6 | T28: =GETPIVOTDATA("Count",'Hits per Hour'!$A$3,"Just Hour",6) -> 30
A29: 46278.832 | B29: Events | C29: 187.15.80.190 | D29: Santa Clara | E29: CA | F29: United States | G29: 1 | H29: =INT(A29) -> 46278 | I29: =WEEKDAY(A29) -> 1 | J29: =HOUR(A29) -> 19 | L29: SD | M29: =SUMIF(E:E,L29,G:G) -> 0 | N29: =100*M29/$M$31 -> 0 | P29: Members_Only | Q29: =SUMIF(B:B,TRIM(P29),G:G) -> 9 | R29: =100*Q29/SUM(G:G) -> 0.66815145 | S29: 7 | T29: =GETPIVOTDATA("Count",'Hits per Hour'!$A$3,"Just Hour",7) -> 64
A30: 46279.029 | B30: Home | C30: 97.171.154.106 | D30: West Jordan | E30: UT | F30: United States | G30: 1 | H30: =INT(A30) -> 46279 | I30: =WEEKDAY(A30) -> 2 | J30: =HOUR(A30) -> 0 | P30: Ride_Lead_Resourses | Q30: =SUMIF(B:B,TRIM(P30),G:G) -> 8 | R30: =100*Q30/SUM(G:G) -> 0.5939124 | S30: 8 | T30: =GETPIVOTDATA("Count",'Hits per Hour'!$A$3,"Just Hour",8) -> 60
A31: 46279.03 | B31: Newsletters | C31: 97.171.154.106 | D31: West Jordan | E31: UT | F31: United States | G31: 1 | H31: =INT(A31) -> 46279 | I31: =WEEKDAY(A31) -> 2 | J31: =HOUR(A31) -> 0 | L31: Total Hits = | M31: =SUM(G:G) -> 1347 | P31: Ride_Lead_Calendar | Q31: =SUMIF(B:B,TRIM(P31),G:G) -> 7 | R31: =100*Q31/SUM(G:G) -> 0.51967335 | S31: 9 | T31: =GETPIVOTDATA("Count",'Hits per Hour'!$A$3,"Just Hour",9) -> 78
A32: 46279.214 | B32: Chapter_Calendar | C32: 174.253.245.45 | D32: Indianapolis | E32: IN | F32: United States | G32: 1 | H32: =INT(A32) -> 46279 | I32: =WEEKDAY(A32) -> 2 | J32: =HOUR(A32) -> 5 | P32: Reports | Q32: =SUMIF(B:B,TRIM(P32),G:G) -> 7 | R32: =100*Q32/SUM(G:G) -> 0.51967335 | S32: 10 | T32: =GETPIVOTDATA("Count",'Hits per Hour'!$A$3,"Just Hour",10) -> 94
A33: 46279.309 | B33: Chapter_Mileage_Tracker | C33: 187.14.87.117 | D33: Salt Lake City | E33: UT | F33: United States | G33: 1 | H33: =INT(A33) -> 46279 | I33: =WEEKDAY(A33) -> 2 | J33: =HOUR(A33) -> 7 | P33: Chapter_Mileage_Tracker | Q33: =SUMIF(B:B,TRIM(P33),G:G) -> 6 | R33: =100*Q33/SUM(G:G) -> 0.4454343 | S33: 11 | T33: =GETPIVOTDATA("Count",'Hits per Hour'!$A$3,"Just Hour",11) -> 74
A34: 46279.354 | B34: Home | C34: 187.14.88.115 | D34: Salt Lake City | E34: UT | F34: United States | G34: 1 | H34: =INT(A34) -> 46279 | I34: =WEEKDAY(A34) -> 2 | J34: =HOUR(A34) -> 8 | P34: History | Q34: =SUMIF(B:B,TRIM(P34),G:G) -> 5 | R34: =100*Q34/SUM(G:G) -> 0.37119525 | S34: 12 | T34: =GETPIVOTDATA("Count",'Hits per Hour'!$A$3,"Just Hour",12) -> 79
A35: 46279.354 | B35: Chapter_Members_Listing | C35: 187.14.88.115 | D35: Salt Lake City | E35: UT | F35: United States | G35: 1 | H35: =INT(A35) -> 46279 | I35: =WEEKDAY(A35) -> 2 | J35: =HOUR(A35) -> 8 | P35: Group_Riding_Info | Q35: =SUMIF(B:B,TRIM(P35),G:G) -> 4 | R35: =100*Q35/SUM(G:G) -> 0.2969562 | S35: 13 | T35: =GETPIVOTDATA("Count",'Hits per Hour'!$A$3,"Just Hour",13) -> 67
A36: 46279.355 | B36: Chapter_Members_Listing | C36: 187.14.88.115 | D36: Salt Lake City | E36: UT | F36: United States | G36: 1 | H36: =INT(A36) -> 46279 | I36: =WEEKDAY(A36) -> 2 | J36: =HOUR(A36) -> 8 | P36: Biker_Buddies_Program | Q36: =SUMIF(B:B,TRIM(P36),G:G) -> 4 | R36: =100*Q36/SUM(G:G) -> 0.2969562 | S36: 14 | T36: =GETPIVOTDATA("Count",'Hits per Hour'!$A$3,"Just Hour",14) -> 63
A37: 46279.372 | B37: photos_n_videos | C37: 23.169.104.79 | D37: Emmett | E37: ID | F37: United States | G37: 1 | H37: =INT(A37) -> 46279 | I37: =WEEKDAY(A37) -> 2 | J37: =HOUR(A37) -> 8 | P37: Friendsgiving_Dish_Schedule | Q37: =SUMIF(B:B,TRIM(P37),G:G) -> 4 | R37: =100*Q37/SUM(G:G) -> 0.2969562 | S37: 15 | T37: =GETPIVOTDATA("Count",'Hits per Hour'!$A$3,"Just Hour",15) -> 101
A38: 46279.383 | B38: Home | C38: 187.15.80.194 | D38: Santa Clara | E38: CA | F38: United States | G38: 1 | H38: =INT(A38) -> 46279 | I38: =WEEKDAY(A38) -> 2 | J38: =HOUR(A38) -> 9 | P38: Chapter_Members_Listing | Q38: =SUMIF(B:B,TRIM(P38),G:G) -> 3 | R38: =100*Q38/SUM(G:G) -> 0.22271715 | S38: 16 | T38: =GETPIVOTDATA("Count",'Hits per Hour'!$A$3,"Just Hour",16) -> 60
A39: 46279.413 | B39: Home | C39: 66.153.251.76 | D39: Myrtle Beach | E39: SC | F39: United States | G39: 1 | H39: =INT(A39) -> 46279 | I39: =WEEKDAY(A39) -> 2 | J39: =HOUR(A39) -> 9 | P39: New_Member_Recruit_Raffle | Q39: =SUMIF(B:B,TRIM(P39),G:G) -> 3 | R39: =100*Q39/SUM(G:G) -> 0.22271715 | S39: 17 | T39: =GETPIVOTDATA("Count",'Hits per Hour'!$A$3,"Just Hour",17) -> 70
A40: 46279.476 | B40: Home | C40: 146.75.203.47 | D40: Boise | E40: ID | F40: United States | G40: 1 | H40: =INT(A40) -> 46279 | I40: =WEEKDAY(A40) -> 2 | J40: =HOUR(A40) -> 11 | P40: Delete_Activity_Log | Q40: =SUMIF(B:B,TRIM(P40),G:G) -> 1 | R40: =100*Q40/SUM(G:G) -> 0.07423905 | S40: 18 | T40: =GETPIVOTDATA("Count",'Hits per Hour'!$A$3,"Just Hour",18) -> 102
A41: 46279.478 | B41: Home | C41: 146.75.203.47 | D41: Boise | E41: ID | F41: United States | G41: 1 | H41: =INT(A41) -> 46279 | I41: =WEEKDAY(A41) -> 2 | J41: =HOUR(A41) -> 11 | P41: Chapter_Ride365_Miles | Q41: =SUMIF(B:B,TRIM(P41),G:G) -> 1 | R41: =100*Q41/SUM(G:G) -> 0.07423905 | S41: 19 | T41: =GETPIVOTDATA("Count",'Hits per Hour'!$A$3,"Just Hour",19) -> 102
A42: 46279.484 | B42: Chapter_Officers | C42: 174.252.241.118 | D42: Salt Lake City | E42: UT | F42: United States | G42: 1 | H42: =INT(A42) -> 46279 | I42: =WEEKDAY(A42) -> 2 | J42: =HOUR(A42) -> 11 | P42: Gift_Wrapping_Volunteers | Q42: =SUMIF(B:B,TRIM(P42),G:G) -> 1 | R42: =100*Q42/SUM(G:G) -> 0.07423905 | S42: 20 | T42: =GETPIVOTDATA("Count",'Hits per Hour'!$A$3,"Just Hour",20) -> 97
A43: 46279.489 | B43: FAQs | C43: 75.174.96.215 | D43: Boise | E43: ID | F43: United States | G43: 1 | H43: =INT(A43) -> 46279 | I43: =WEEKDAY(A43) -> 2 | J43: =HOUR(A43) -> 11 | P43: Member_Points_Detail | Q43: =SUMIF(B:B,TRIM(P43),G:G) -> 0 | R43: =100*Q43/SUM(G:G) -> 0 | S43: 21 | T43: =GETPIVOTDATA("Count",'Hits per Hour'!$A$3,"Just Hour",21) -> 55
A44: 46279.512 | B44: Policies | C44: 75.174.96.215 | D44: Boise | E44: ID | F44: United States | G44: 1 | H44: =INT(A44) -> 46279 | I44: =WEEKDAY(A44) -> 2 | J44: =HOUR(A44) -> 12 | P44: System_Activity_Log | Q44: =SUMIF(B:B,TRIM(P44),G:G) -> 0 | R44: =100*Q44/SUM(G:G) -> 0
A45: 46279.516 | B45: Ride_Lead_Calendar | C45: 75.174.96.215 | D45: Boise | E45: ID | F45: United States | G45: 1 | H45: =INT(A45) -> 46279 | I45: =WEEKDAY(A45) -> 2 | J45: =HOUR(A45) -> 12 | P45: All_Team_Members | Q45: =SUMIF(B:B,TRIM(P45),G:G) -> 0 | R45: =100*Q45/SUM(G:G) -> 0 | S45: Legend=> | T45: Most Hits
A46: 46279.528 | B46: Home | C46: 23.169.104.79 | D46: Emmett | E46: ID | F46: United States | G46: 1 | H46: =INT(A46) -> 46279 | I46: =WEEKDAY(A46) -> 2 | J46: =HOUR(A46) -> 12 | P46: Member_Photos | Q46: =SUMIF(B:B,TRIM(P46),G:G) -> 0 | R46: =100*Q46/SUM(G:G) -> 0 | T46: Hits in %
A47: 46279.53 | B47: Home | C47: 23.169.104.79 | D47: Emmett | E47: ID | F47: United States | G47: 1 | H47: =INT(A47) -> 46279 | I47: =WEEKDAY(A47) -> 2 | J47: =HOUR(A47) -> 12 | T47: Need more emphasis
A48: 46279.53 | B48: Chapter_Calendar | C48: 23.169.104.79 | D48: Emmett | E48: ID | F48: United States | G48: 1 | H48: =INT(A48) -> 46279 | I48: =WEEKDAY(A48) -> 2 | J48: =HOUR(A48) -> 12 | P48: Total Hits = | Q48: =SUM(G:G) -> 1347 | R48: =SUM(R4:R41) -> 99.628805 | T48: Limitted Access Pages
A49: 46279.546 | B49: photos_n_videos | C49: 23.169.104.79 | D49: Emmett | E49: ID | F49: United States | G49: 1 | H49: =INT(A49) -> 46279 | I49: =WEEKDAY(A49) -> 2 | J49: =HOUR(A49) -> 13
A50: 46279.55 | B50: Events | C50: 170.106.113.235 | D50: Santa Clara | E50: CA | F50: United States | G50: 1 | H50: =INT(A50) -> 46279 | I50: =WEEKDAY(A50) -> 2 | J50: =HOUR(A50) -> 13
A51: 46279.555 | B51: Chapter_Calendar | C51: 174.230.193.177 | D51: Taylorsville | E51: UT | F51: United States | G51: 1 | H51: =INT(A51) -> 46279 | I51: =WEEKDAY(A51) -> 2 | J51: =HOUR(A51) -> 13
A52: 46279.575 | B52: Chapter_Calendar | C52: 23.169.104.79 | D52: Emmett | E52: ID | F52: United States | G52: 1 | H52: =INT(A52) -> 46279 | I52: =WEEKDAY(A52) -> 2 | J52: =HOUR(A52) -> 13
A53: 46279.579 | B53: Chapter_Calendar | C53: 43.153.119.119 | D53: Santa Clara | E53: CA | F53: United States | G53: 1 | H53: =INT(A53) -> 46279 | I53: =WEEKDAY(A53) -> 2 | J53: =HOUR(A53) -> 13
A54: 46279.583 | B54: Private_Event_Locations | C54: 23.169.104.79 | D54: Emmett | E54: ID | F54: United States | G54: 1 | H54: =INT(A54) -> 46279 | I54: =WEEKDAY(A54) -> 2 | J54: =HOUR(A54) -> 14
A55: 46279.586 | B55: Home | C55: 67.60.156.218 | D55: Boise | E55: ID | F55: United States | G55: 1 | H55: =INT(A55) -> 46279 | I55: =WEEKDAY(A55) -> 2 | J55: =HOUR(A55) -> 14
A56: 46279.586 | B56: Membership | C56: 67.60.156.218 | D56: Boise | E56: ID | F56: United States | G56: 1 | H56: =INT(A56) -> 46279 | I56: =WEEKDAY(A56) -> 2 | J56: =HOUR(A56) -> 14
A57: 46279.587 | B57: Chapter_Calendar | C57: 23.169.104.79 | D57: Emmett | E57: ID | F57: United States | G57: 1 | H57: =INT(A57) -> 46279 | I57: =WEEKDAY(A57) -> 2 | J57: =HOUR(A57) -> 14
A58: 46279.61 | B58: LOH | C58: 23.169.104.79 | D58: Emmett | E58: ID | F58: United States | G58: 1 | H58: =INT(A58) -> 46279 | I58: =WEEKDAY(A58) -> 2 | J58: =HOUR(A58) -> 14
A59: 46279.61 | B59: Chapter_Officers | C59: 23.169.104.79 | D59: Emmett | E59: ID | F59: United States | G59: 1 | H59: =INT(A59) -> 46279 | I59: =WEEKDAY(A59) -> 2 | J59: =HOUR(A59) -> 14
A60: 46279.647 | B60: Home | C60: 72.153.231.69 | D60: San Francisco | E60: CA | F60: United States | G60: 1 | H60: =INT(A60) -> 46279 | I60: =WEEKDAY(A60) -> 2 | J60: =HOUR(A60) -> 15
... A82: 46280.288 | B82: Home | C82: 24.14.60.183 | D82: Saint John | E82: IN | F82: United States | G82: 1 | H82: =INT(A82) -> 46280 | I82: =WEEKDAY(A82) -> 3 | J82: =HOUR(A82) -> 6
A83: 46280.306 | B83: FAQs | C83: 150.241.237.175 | D83: Hong Kong | F83: Hong Kong | G83: 1 | H83: =INT(A83) -> 46280 | I83: =WEEKDAY(A83) -> 3 | J83: =HOUR(A83) -> 7
A84: 46280.311 | B84: Chapter_Officers | C84: 75.174.96.215 | D84: Boise | E84: ID | F84: United States | G84: 1 | H84: =INT(A84) -> 46280 | I84: =WEEKDAY(A84) -> 3 | J84: =HOUR(A84) -> 7
A85: 46280.34 | B85: Chapter_Calendar | C85: 67.63.78.125 | D85: Mountain Home | E85: ID | F85: United States | G85: 1 | H85: =INT(A85) -> 46280 | I85: =WEEKDAY(A85) -> 3 | J85: =HOUR(A85) -> 8
A86: 46280.37 | B86: Chapter_Calendar | C86: 135.232.20.41 | D86: Boydton | E86: VA | F86: United States | G86: 1 | H86: =INT(A86) -> 46280 | I86: =WEEKDAY(A86) -> 3 | J86: =HOUR(A86) -> 8
A87: 46280.37 | B87: Home | C87: 135.232.20.41 | D87: Boydton | E87: VA | F87: United States | G87: 1 | H87: =INT(A87) -> 46280 | I87: =WEEKDAY(A87) -> 3 | J87: =HOUR(A87) -> 8
A88: 46280.372 | B88: Home | C88: 135.232.20.41 | D88: Boydton | E88: VA | F88: United States | G88: 1 | H88: =INT(A88) -> 46280 | I88: =WEEKDAY(A88) -> 3 | J88: =HOUR(A88) -> 8
A89: 46280.418 | B89: Burger_Burn_Volunteers | C89: 23.169.104.79 | D89: Emmett | E89: ID | F89: United States | G89: 1 | H89: =INT(A89) -> 46280 | I89: =WEEKDAY(A89) -> 3 | J89: =HOUR(A89) -> 10
A90: 46280.462 | B90: Home | C90: 75.174.96.215 | D90: Boise | E90: ID | F90: United States | G90: 1 | H90: =INT(A90) -> 46280 | I90: =WEEKDAY(A90) -> 3 | J90: =HOUR(A90) -> 11
A91: 46280.516 | B91: Biker_BFast_Volunteers | C91: 75.174.96.215 | D91: Boise | E91: ID | F91: United States | G91: 1 | H91: =INT(A91) -> 46280 | I91: =WEEKDAY(A91) -> 3 | J91: =HOUR(A91) -> 12
A92: 46280.523 | B92: Chapter_Calendar | C92: 75.174.96.215 | D92: Boise | E92: ID | F92: United States | G92: 1 | H92: =INT(A92) -> 46280 | I92: =WEEKDAY(A92) -> 3 | J92: =HOUR(A92) -> 12
A93: 46280.554 | B93: Home | C93: 24.116.74.188 | D93: Boise | E93: ID | F93: United States | G93: 1 | H93: =INT(A93) -> 46280 | I93: =WEEKDAY(A93) -> 3 | J93: =HOUR(A93) -> 13
A94: 46280.579 | B94: Events | C94: 204.1.153.62 | D94: Hanoi | E94: HN | F94: Vietnam | G94: 1 | H94: =INT(A94) -> 46280 | I94: =WEEKDAY(A94) -> 3 | J94: =HOUR(A94) -> 13
A95: 46280.599 | B95: Chapter_Calendar | C95: 154.27.164.187 | D95: Star | E95: ID | F95: United States | G95: 1 | H95: =INT(A95) -> 46280 | I95: =WEEKDAY(A95) -> 3 | J95: =HOUR(A95) -> 14
... A301: 46285.348 | B301: Chapter_Calendar | C301: 40.77.167.16 | D301: Boydton | E301: VA | F301: United States | G301: 1 | H301: =INT(A301) -> 46285 | I301: =WEEKDAY(A301) -> 1 | J301: =HOUR(A301) -> 8
A302: 46285.428 | B302: Events | C302: 77.75.79.109 | D302: Prague | E302: 10 | F302: Czechia | G302: 1 | H302: =INT(A302) -> 46285 | I302: =WEEKDAY(A302) -> 1 | J302: =HOUR(A302) -> 10
A303: 46285.438 | B303: Home | C303: 160.3.203.157 | D303: Eagle | E303: ID | F303: United States | G303: 1 | H303: =INT(A303) -> 46285 | I303: =WEEKDAY(A303) -> 1 | J303: =HOUR(A303) -> 10
A304: 46285.441 | B304: Chapter_Calendar | C304: 75.174.13.177 | D304: Nampa | E304: ID | F304: United States | G304: 1 | H304: =INT(A304) -> 46285 | I304: =WEEKDAY(A304) -> 1 | J304: =HOUR(A304) -> 10
A305: 46285.441 | B305: Private_Event_Locations | C305: 75.174.13.177 | D305: Nampa | E305: ID | F305: United States | G305: 1 | H305: =INT(A305) -> 46285 | I305: =WEEKDAY(A305) -> 1 | J305: =HOUR(A305) -> 10
A306: 46285.441 | B306: Private_Event_Locations | C306: 75.174.13.177 | D306: Nampa | E306: ID | F306: United States | G306: 1 | H306: =INT(A306) -> 46285 | I306: =WEEKDAY(A306) -> 1 | J306: =HOUR(A306) -> 10
A307: 46285.442 | B307: Home | C307: 75.174.13.177 | D307: Nampa | E307: ID | F307: United States | G307: 1 | H307: =INT(A307) -> 46285 | I307: =WEEKDAY(A307) -> 1 | J307: =HOUR(A307) -> 10
A308: 46285.444 | B308: Private_Event_Locations | C308: 160.3.203.157 | D308: Eagle | E308: ID | F308: United States | G308: 1 | H308: =INT(A308) -> 46285 | I308: =WEEKDAY(A308) -> 1 | J308: =HOUR(A308) -> 10
A309: 46285.452 | B309: Events | C309: 75.174.69.105 | D309: Eagle | E309: ID | F309: United States | G309: 1 | H309: =INT(A309) -> 46285 | I309: =WEEKDAY(A309) -> 1 | J309: =HOUR(A309) -> 10
A310: 46285.453 | B310: Membership | C310: 43.128.149.102 | D310: Seoul | E310: 11 | F310: South Korea | G310: 1 | H310: =INT(A310) -> 46285 | I310: =WEEKDAY(A310) -> 1 | J310: =HOUR(A310) -> 10
A311: 46285.455 | B311: Home | C311: 174.220.171.98 | D311: Salt Lake City | E311: UT | F311: United States | G311: 1 | H311: =INT(A311) -> 46285 | I311: =WEEKDAY(A311) -> 1 | J311: =HOUR(A311) -> 10
A312: 46285.455 | B312: Chapter_Calendar | C312: 174.220.171.98 | D312: Salt Lake City | E312: UT | F312: United States | G312: 1 | H312: =INT(A312) -> 46285 | I312: =WEEKDAY(A312) -> 1 | J312: =HOUR(A312) -> 10
A313: 46285.456 | B313: Private_Event_Locations | C313: 174.220.171.98 | D313: Salt Lake City | E313: UT | F313: United States | G313: 1 | H313: =INT(A313) -> 46285 | I313: =WEEKDAY(A313) -> 1 | J313: =HOUR(A313) -> 10
A314: 46285.459 | B314: National_HOG_Challenges | C314: 43.166.130.123 | D314: Ashburn | E314: VA | F314: United States | G314: 1 | H314: =INT(A314) -> 46285 | I314: =WEEKDAY(A314) -> 1 | J314: =HOUR(A314) -> 11
A315: 46285.466 | B315: LOH | C315: 43.166.131.228 | D315: Ashburn | E315: VA | F315: United States | G315: 1 | H315: =INT(A315) -> 46285 | I315: =WEEKDAY(A315) -> 1 | J315: =HOUR(A315) -> 11
A316: 46285.474 | B316: Chapter_Officers | C316: 43.166.240.231 | D316: Ashburn | E316: VA | F316: United States | G316: 1 | H316: =INT(A316) -> 46285 | I316: =WEEKDAY(A316) -> 1 | J316: =HOUR(A316) -> 11
A317: 46285.486 | B317: photos_n_videos | C317: 143.14.151.7 | D317: Hong Kong | F317: Hong Kong | G317: 1 | H317: =INT(A317) -> 46285 | I317: =WEEKDAY(A317) -> 1 | J317: =HOUR(A317) -> 11
A318: 46285.496 | B318: Home | C318: 23.169.104.79 | D318: Emmett | E318: ID | F318: United States | G318: 1 | H318: =INT(A318) -> 46285 | I318: =WEEKDAY(A318) -> 1 | J318: =HOUR(A318) -> 11
A319: 46285.496 | B319: Chapter_Calendar | C319: 23.169.104.79 | D319: Emmett | E319: ID | F319: United States | G319: 1 | H319: =INT(A319) -> 46285 | I319: =WEEKDAY(A319) -> 1 | J319: =HOUR(A319) -> 11
A320: 46285.498 | B320: Home | C320: 174.230.192.5 | D320: Twin Falls | E320: ID | F320: United States | G320: 1 | H320: =INT(A320) -> 46285 | I320: =WEEKDAY(A320) -> 1 | J320: =HOUR(A320) -> 11
A321: 46285.498 | B321: Chapter_Calendar | C321: 174.230.192.5 | D321: Twin Falls | E321: ID | F321: United States | G321: 1 | H321: =INT(A321) -> 46285 | I321: =WEEKDAY(A321) -> 1 | J321: =HOUR(A321) -> 11
A322: 46285.498 | B322: Home | C322: 172.56.205.254 | D322: Spokane | E322: WA | F322: United States | G322: 1 | H322: =INT(A322) -> 46285 | I322: =WEEKDAY(A322) -> 1 | J322: =HOUR(A322) -> 11
A323: 46285.498 | B323: Chapter_Calendar | C323: 172.56.205.254 | D323: Spokane | E323: WA | F323: United States | G323: 1 | H323: =INT(A323) -> 46285 | I323: =WEEKDAY(A323) -> 1 | J323: =HOUR(A323) -> 11
A324: 46285.499 | B324: Private_Event_Locations | C324: 174.230.192.5 | D324: Twin Falls | E324: ID | F324: United States | G324: 1 | H324: =INT(A324) -> 46285 | I324: =WEEKDAY(A324) -> 1 | J324: =HOUR(A324) -> 11
A325: 46285.5 | B325: Private_Event_Locations | C325: 172.56.205.254 | D325: Spokane | E325: WA | F325: United States | G325: 1 | H325: =INT(A325) -> 46285 | I325: =WEEKDAY(A325) -> 1 | J325: =HOUR(A325) -> 11
A326: 46285.58 | B326: Ride_Leads | C326: 187.15.80.188 | D326: Santa Clara | E326: CA | F326: United States | G326: 1 | H326: =INT(A326) -> 46285 | I326: =WEEKDAY(A326) -> 1 | J326: =HOUR(A326) -> 13
...

Sheet Hits per Day
A3: Row Labels | B3: Sum of Count
A4: 46278 | B4: 28
A5: 46279 | B5: 52
A6: 46280 | B6: 33
A7: 46281 | B7: 12
A8: 46282 | B8: 28
A9: 46283 | B9: 63
A10: 46284 | B10: 76
A11: 46285 | B11: 84
A12: 46286 | B12: 65
A13: 46287 | B13: 43
A14: 46288 | B14: 42
A15: 46289 | B15: 62
... A19: 46293 | B19: 44
A20: 46294 | B20: 33 | D20: Average Hits/Day = | F20: =AVERAGE(B4:B22) -> 52.578947
A21: 46295 | B21: 66
A22: 46296 | B22: 90
A23: 46297 | B23: 71
A24: 46298 | B24: 53
A25: 46299 | B25: 42
A26: 46300 | B26: 32
A27: 46301 | B27: 79
A28: 46302 | B28: 66
A29: 46303 | B29: 5
A30: Grand Total | B30: 1347

Sheet Hits per Day of Week
A3: Row Labels | B3: Sum of Count
A4: 1 | B4: 230
A5: 2 | B5: 193
A6: 3 | B6: 188
A7: 4 | B7: 186
A8: 5 | B8: 185
A9: 6 | B9: 214
A10: 7 | B10: 151
A11: Grand Total | B11: 1347

Sheet Hits per Hour
A3: Row Labels | B3: Sum of Count
A4: 0 | B4: 8
A5: 1 | B5: 17
A6: 2 | B6: 6
A7: 3 | B7: 13
A8: 4 | B8: 15
A9: 5 | B9: 36
A10: 6 | B10: 30
A11: 7 | B11: 64
A12: 8 | B12: 60
A13: 9 | B13: 78
A14: 10 | B14: 94
A15: 11 | B15: 74
... A27: 23 | B27: 7
A28: Grand Total | B28: 1347

Sheet Hits by City
A3: Row Labels | B3: Sum of Count
A4: Boise | B4: 344
A5: Meridian | B5: 121
A6: Nampa | B6: 105
A7: Eagle | B7: 78
A8: Salt Lake City | B8: 49
A9: Boydton | B9: 46
A10: Emmett | B10: 45
A11: Seattle | B11: 41
A12: Santa Clara | B12: 39
A13: Cleveland | B13: 31
A14: Kuna | B14: 24
A15: Caldwell | B15: 20
... A115: Grand Total | B115: 1347

Sheet Hits by IP
A3: Row Labels | B3: Sum of Count
A4: 23.169.104.79 | B4: 40
A5: 24.206.90.8 | B5: 38
A6: 75.174.85.212 | B6: 34
A7: 96.19.63.66 | B7: 31
A8: 67.60.230.113 | B8: 30
A9: 135.131.170.130 | B9: 24
A10: 75.174.13.177 | B10: 21
A11: 96.19.1.191 | B11: 17
A12: 67.41.41.202 | B12: 16
A13: 160.2.134.120 | B13: 15
A14: 75.174.69.105 | B14: 14
A15: 96.19.178.57 | B15: 12
... A216: Grand Total | B216: 853
